BEGIN:VCALENDAR
VERSION:2.0
PRODID:-//Tukios.com/
BEGIN:VEVENT
UID:219b3927-a68c-4a7f-bd5e-11dd1b3859da@www.friouxfunerals.com
DTSTAMP:20260423T001928Z
DTSTART:20260428T160000Z
DTEND:20260428T163000Z
SUMMARY:Graveside Service
DESCRIPTION:
URL:https://www.friouxfunerals.com/obituaries/akhari-montgomery
LOCATION: 515 Jacqulyn Street  Abbeville LA 70510
GEO:29.9553082;-92.1331597
END:VEVENT
END:VCALENDAR